BEGIN:VCALENDAR
VERSION:2.0
PRODID:-//makerere university library website - ECPv6.15.20//NONSGML v1.0//EN
CALSCALE:GREGORIAN
METHOD:PUBLISH
X-ORIGINAL-URL:https://mulib.mak.ac.ug
X-WR-CALDESC:Events for makerere university library website
REFRESH-INTERVAL;VALUE=DURATION:PT1H
X-Robots-Tag:noindex
X-PUBLISHED-TTL:PT1H
BEGIN:VTIMEZONE
TZID:UTC
BEGIN:STANDARD
TZOFFSETFROM:+0000
TZOFFSETTO:+0000
TZNAME:UTC
DTSTART:20190101T000000
END:STANDARD
END:VTIMEZONE
BEGIN:VEVENT
DTSTART;TZID=UTC:20200107T070000
DTEND;TZID=UTC:20250410T220000
DTSTAMP:20260424T161823
CREATED:20180816T120220Z
LAST-MODIFIED:20250411T120852Z
UID:5993-1578380400-1744322400@mulib.mak.ac.ug
SUMMARY:Training
DESCRIPTION:Far far away\, behind the word mountains\, far from the countries Vokalia and Consonantia\, there live the blind texts. Separated they live in Bookmarksgrove right at the coast of the Semantics\, a large language ocean. A small river named Duden flows by their place and supplies it with the necessary regelialia. It is a paradisematic country\, in which roasted parts of sentences fly into your mouth. Even the all-powerful Pointing has no control about the blind texts it is an almost unorthographic life One day however a small line of blind text by the name
URL:https://mulib.mak.ac.ug/event/kingsters-alumni-golf-tour/
LOCATION:Multi Purpose Lab\, Logan Circle Washington\, DC\, Washington\, United States
CATEGORIES:News
ORGANIZER;CN="Kingster's Social Club":MAILTO:clubs@kingsteruni.edu
END:VEVENT
END:VCALENDAR